BEGIN:VCALENDAR
VERSION:2.0
PRODID:-//hacksw/handcal//NONSGML v1.0//EN
BEGIN:VEVENT
UID:3506
DTSTART;VALUE=DATE:20150327
URL;VALUE=URI:ohschonhell.at/?page_id=6481
SUMMARY:Flair &amp\; Flirt # 13: SOOPERTRASH live
LOCATION:ELEKTRO GÖNNER
END:VEVENT
END:VCALENDAR


