BEGIN:VCALENDAR
VERSION:2.0
PRODID:-//hacksw/handcal//NONSGML v1.0//EN
BEGIN:VEVENT
UID:3508
DTSTART;VALUE=DATE:20150329
URL;VALUE=URI:ohschonhell.at/?page_id=6483
SUMMARY:teCHnO brUNcH
LOCATION:RADIO - THE LABEL BAR
END:VEVENT
END:VCALENDAR


