BEGIN:VCALENDAR
VERSION:2.0
PRODID:-//hacksw/handcal//NONSGML v1.0//EN
BEGIN:VEVENT
UID:3512
DTSTART;VALUE=DATE:20150405
URL;VALUE=URI:ohschonhell.at/?page_id=6488
SUMMARY:TeCHnO brUNcH mit Dominik Löblich FREAKY EASTER SPECIAL
LOCATION:RADIO - THE LABEL BAR
END:VEVENT
END:VCALENDAR


