BEGIN:VCALENDAR
VERSION:2.0
PRODID:-//hacksw/handcal//NONSGML v1.0//EN
BEGIN:VEVENT
UID:3518
DTSTART;VALUE=DATE:20150326
URL;VALUE=URI:ohschonhell.at/?page_id=6497
SUMMARY:GÖNN DIR WAS
LOCATION:ELEKTRO GÖNNER
END:VEVENT
END:VCALENDAR


