BEGIN:VCALENDAR
VERSION:2.0
PRODID:-//hacksw/handcal//NONSGML v1.0//EN
BEGIN:VEVENT
UID:3526
DTSTART;VALUE=DATE:20150403
URL;VALUE=URI:ohschonhell.at/?page_id=6506
SUMMARY:TECHNOLAND @ DUAL
LOCATION:DUAL
END:VEVENT
END:VCALENDAR


