BEGIN:VCALENDAR
VERSION:2.0
PRODID:-//hacksw/handcal//NONSGML v1.0//EN
BEGIN:VEVENT
UID:3536
DTSTART;VALUE=DATE:20150508
URL;VALUE=URI:ohschonhell.at/?page_id=6517
SUMMARY:GIRL´s meets BOY´s  ...   deco by AURORASKY
LOCATION:CLUB TITANIC
END:VEVENT
END:VCALENDAR


