BEGIN:VCALENDAR
VERSION:2.0
PRODID:-//hacksw/handcal//NONSGML v1.0//EN
BEGIN:VEVENT
UID:3553
DTSTART;VALUE=DATE:20150411
URL;VALUE=URI:ohschonhell.at/?page_id=6547
SUMMARY:Get Whipped in April!
LOCATION:VOLKSGARTEN
END:VEVENT
END:VCALENDAR


