BEGIN:VCALENDAR
VERSION:2.0
PRODID:-//hacksw/handcal//NONSGML v1.0//EN
BEGIN:VEVENT
UID:3557
DTSTART;VALUE=DATE:20150416
URL;VALUE=URI:ohschonhell.at/?page_id=6557
SUMMARY:Elektro STAMMTISCH 3.0
LOCATION:KIOSK SCHLEIFMÜHLGASSE
END:VEVENT
END:VCALENDAR


