BEGIN:VCALENDAR
VERSION:2.0
PRODID:-//hacksw/handcal//NONSGML v1.0//EN
BEGIN:VEVENT
UID:3560
DTSTART;VALUE=DATE:20150502
URL;VALUE=URI:ohschonhell.at/?page_id=6561
SUMMARY:Manifest π 1.2 w/ SE62 (My Love is Underground\, Kiev)
LOCATION:SASS
END:VEVENT
END:VCALENDAR


