BEGIN:VCALENDAR
VERSION:2.0
PRODID:-//hacksw/handcal//NONSGML v1.0//EN
BEGIN:VEVENT
UID:3622
DTSTART;VALUE=DATE:20150410
URL;VALUE=URI:ohschonhell.at/?page_id=6638
SUMMARY:Becs Late Night
LOCATION:DUAL
END:VEVENT
END:VCALENDAR


