BEGIN:VCALENDAR
VERSION:2.0
PRODID:-//hacksw/handcal//NONSGML v1.0//EN
BEGIN:VEVENT
UID:3625
DTSTART;VALUE=DATE:20150502
URL;VALUE=URI:ohschonhell.at/?page_id=6645
SUMMARY:INDUSTRIALYZER live [NL] //  WCDL // Sat.02.05.15 // Marx Palast //
LOCATION:MARX PALAST
END:VEVENT
END:VCALENDAR


