BEGIN:VCALENDAR
VERSION:2.0
PRODID:-//hacksw/handcal//NONSGML v1.0//EN
BEGIN:VEVENT
UID:3628
DTSTART;VALUE=DATE:20150417
URL;VALUE=URI:ohschonhell.at/?page_id=6648
SUMMARY:SEE THE SOUND
LOCATION:DUAL
END:VEVENT
END:VCALENDAR


