BEGIN:VCALENDAR
VERSION:2.0
PRODID:-//hacksw/handcal//NONSGML v1.0//EN
BEGIN:VEVENT
UID:3639
DTSTART;VALUE=DATE:20150419
URL;VALUE=URI:ohschonhell.at/?page_id=6669
SUMMARY:teCHnO brUNcH mit Dominik Löblich
LOCATION:RADIO - THE LABEL BAR
END:VEVENT
END:VCALENDAR


