BEGIN:VCALENDAR
VERSION:2.0
PRODID:-//hacksw/handcal//NONSGML v1.0//EN
BEGIN:VEVENT
UID:3642
DTSTART;VALUE=DATE:20150417
URL;VALUE=URI:ohschonhell.at/?page_id=6672
SUMMARY:DISCO FRISCO ⇝ Vinyl only! ⇜
LOCATION:SCHIKANEDER
END:VEVENT
END:VCALENDAR


