BEGIN:VCALENDAR
VERSION:2.0
PRODID:-//hacksw/handcal//NONSGML v1.0//EN
BEGIN:VEVENT
UID:3654
DTSTART;VALUE=DATE:20150418
URL;VALUE=URI:ohschonhell.at/?page_id=6689
SUMMARY:PECHschwarz x K-ptn
LOCATION:PECH
END:VEVENT
END:VCALENDAR


