BEGIN:VCALENDAR
VERSION:2.0
PRODID:-//hacksw/handcal//NONSGML v1.0//EN
BEGIN:VEVENT
UID:3660
DTSTART;VALUE=DATE:20150418
URL;VALUE=URI:ohschonhell.at/?page_id=6696
SUMMARY:Tanzmatratze &amp\; Kumpanen
LOCATION:ELEKTRO GÖNNER
END:VEVENT
END:VCALENDAR


