BEGIN:VCALENDAR
VERSION:2.0
PRODID:-//hacksw/handcal//NONSGML v1.0//EN
BEGIN:VEVENT
UID:3661
DTSTART;VALUE=DATE:20150417
URL;VALUE=URI:ohschonhell.at/?page_id=6697
SUMMARY:rotella #11 w/ DJ STA (CZ) &amp\; SLACK HIPPY (FM4)
LOCATION:KIOSK SCHLEIFMÜHLGASSE
END:VEVENT
END:VCALENDAR


