BEGIN:VCALENDAR
VERSION:2.0
PRODID:-//hacksw/handcal//NONSGML v1.0//EN
BEGIN:VEVENT
UID:3674
DTSTART;VALUE=DATE:20150424
URL;VALUE=URI:ohschonhell.at/?page_id=6716
SUMMARY:HAPPINESS w/ MÖWE_live [24/04/2015]
LOCATION:CHAYA FUERA
END:VEVENT
END:VCALENDAR


