BEGIN:VCALENDAR
VERSION:2.0
PRODID:-//hacksw/handcal//NONSGML v1.0//EN
BEGIN:VEVENT
UID:3709
DTSTART;VALUE=DATE:20150424
URL;VALUE=URI:ohschonhell.at/?page_id=6757
SUMMARY:Flair &amp\; Flirt # 14 : Frischauf &amp\; Fuchs LIVE
LOCATION:ELEKTRO GÖNNER
END:VEVENT
END:VCALENDAR


