BEGIN:VCALENDAR
VERSION:2.0
PRODID:-//hacksw/handcal//NONSGML v1.0//EN
BEGIN:VEVENT
UID:3714
DTSTART;VALUE=DATE:20150501
URL;VALUE=URI:ohschonhell.at/?page_id=6764
SUMMARY:PLEMPLEM™ pres. SKOBER [DRUMCODE] ● die kantine
LOCATION:DIE KANTINE
END:VEVENT
END:VCALENDAR


