BEGIN:VCALENDAR
VERSION:2.0
PRODID:-//hacksw/handcal//NONSGML v1.0//EN
BEGIN:VEVENT
UID:3736
DTSTART;VALUE=DATE:20150530
URL;VALUE=URI:ohschonhell.at/?page_id=6801
SUMMARY:Fairys\, Unicorns &amp\; Freaks mit Peter Pan &amp\; Peet Doice (friendselectric)
LOCATION:RADIO - THE LABEL BAR
END:VEVENT
END:VCALENDAR


