BEGIN:VCALENDAR
VERSION:2.0
PRODID:-//hacksw/handcal//NONSGML v1.0//EN
BEGIN:VEVENT
UID:3743
DTSTART;VALUE=DATE:20150506
URL;VALUE=URI:ohschonhell.at/?page_id=6808
SUMMARY:DISCO MUSCLE feat. Murmel Comics
LOCATION:ELEKTRO GÖNNER
END:VEVENT
END:VCALENDAR


