BEGIN:VCALENDAR
VERSION:2.0
PRODID:-//hacksw/handcal//NONSGML v1.0//EN
BEGIN:VEVENT
UID:3780
DTSTART;VALUE=DATE:20150529
URL;VALUE=URI:ohschonhell.at/?page_id=6852
SUMMARY:ELECTRO SWING CARNEVAL presents JAMIE BERRY (Flak Records/UK)
LOCATION:CAFE LEOPOLD
END:VEVENT
END:VCALENDAR


