BEGIN:VCALENDAR
VERSION:2.0
PRODID:-//hacksw/handcal//NONSGML v1.0//EN
BEGIN:VEVENT
UID:3783
DTSTART;VALUE=DATE:20150522
URL;VALUE=URI:ohschonhell.at/?page_id=6855
SUMMARY:DAILY ONE HOUR pres. Nu:TONE (HOSPITAL / UK)
LOCATION:ROXY CLUB
END:VEVENT
END:VCALENDAR


