BEGIN:VCALENDAR
VERSION:2.0
PRODID:-//hacksw/handcal//NONSGML v1.0//EN
BEGIN:VEVENT
UID:3784
DTSTART;VALUE=DATE:20150516
URL;VALUE=URI:ohschonhell.at/?page_id=6856
SUMMARY:Traumvabrik Camouflage Peaceparade Aftershow 2015
LOCATION:TÜWI
END:VEVENT
END:VCALENDAR


