BEGIN:VCALENDAR
VERSION:2.0
PRODID:-//hacksw/handcal//NONSGML v1.0//EN
BEGIN:VEVENT
UID:379
DTSTART;VALUE=DATE:20140125
URL;VALUE=URI:ohschonhell.at/?page_id=2843
SUMMARY:BOINK! Special: &quot\;4 Jahres Boinkerei&quot\; mit KERSTIN EDEN @ Camera Club\, Wien
LOCATION:CAMERA CLUB
END:VEVENT
END:VCALENDAR


