BEGIN:VCALENDAR
VERSION:2.0
PRODID:-//hacksw/handcal//NONSGML v1.0//EN
BEGIN:VEVENT
UID:3793
DTSTART;VALUE=DATE:20150513
URL;VALUE=URI:ohschonhell.at/?page_id=6866
SUMMARY:Wiener Rausch - modern\, heiter\, wienerisch (Teil 1)
LOCATION:ENDSTATION HALTESTELLE 1er
END:VEVENT
END:VCALENDAR


