BEGIN:VCALENDAR
VERSION:2.0
PRODID:-//hacksw/handcal//NONSGML v1.0//EN
BEGIN:VEVENT
UID:3795
DTSTART;VALUE=DATE:20150505
URL;VALUE=URI:ohschonhell.at/?page_id=6868
SUMMARY:SPONTAN TECHNO BEI 29º am Vienna City Beach Club
LOCATION:VIENNA CITY BEACH CLUB
END:VEVENT
END:VCALENDAR


