BEGIN:VCALENDAR
VERSION:2.0
PRODID:-//hacksw/handcal//NONSGML v1.0//EN
BEGIN:VEVENT
UID:3805
DTSTART;VALUE=DATE:20150515
URL;VALUE=URI:ohschonhell.at/?page_id=6881
SUMMARY:Werehouse #2
LOCATION:SASS
END:VEVENT
END:VCALENDAR


