BEGIN:VCALENDAR
VERSION:2.0
PRODID:-//hacksw/handcal//NONSGML v1.0//EN
BEGIN:VEVENT
UID:3822
DTSTART;VALUE=DATE:20150530
URL;VALUE=URI:ohschonhell.at/?page_id=6900
SUMMARY:brüterei ° transporter
LOCATION:TRANSPORTER
END:VEVENT
END:VCALENDAR


