BEGIN:VCALENDAR
VERSION:2.0
PRODID:-//hacksw/handcal//NONSGML v1.0//EN
BEGIN:VEVENT
UID:3828
DTSTART;VALUE=DATE:20150509
URL;VALUE=URI:ohschonhell.at/?page_id=6911
SUMMARY:Tanzmatratze &amp\; KumpanInnen
LOCATION:RHIZ
END:VEVENT
END:VCALENDAR


