BEGIN:VCALENDAR
VERSION:2.0
PRODID:-//hacksw/handcal//NONSGML v1.0//EN
BEGIN:VEVENT
UID:3835
DTSTART;VALUE=DATE:20150520
URL;VALUE=URI:ohschonhell.at/?page_id=6920
SUMMARY:lindenhofer &amp\; andi fettkakao
LOCATION:ELEKTRO GÖNNER
END:VEVENT
END:VCALENDAR


