BEGIN:VCALENDAR
VERSION:2.0
PRODID:-//hacksw/handcal//NONSGML v1.0//EN
BEGIN:VEVENT
UID:3851
DTSTART;VALUE=DATE:20150508
URL;VALUE=URI:ohschonhell.at/?page_id=6939
SUMMARY:Switch! presents G13!
LOCATION:CAMERA CLUB
END:VEVENT
END:VCALENDAR


