BEGIN:VCALENDAR
VERSION:2.0
PRODID:-//hacksw/handcal//NONSGML v1.0//EN
BEGIN:VEVENT
UID:3858
DTSTART;VALUE=DATE:20150606
URL;VALUE=URI:ohschonhell.at/?page_id=6954
SUMMARY:GANGpeng!
LOCATION:VOLKSGARTEN
END:VEVENT
END:VCALENDAR


