BEGIN:VCALENDAR
VERSION:2.0
PRODID:-//hacksw/handcal//NONSGML v1.0//EN
BEGIN:VEVENT
UID:3864
DTSTART;VALUE=DATE:20150619
URL;VALUE=URI:ohschonhell.at/?page_id=6966
SUMMARY:Psygsichta @ Camera
LOCATION:CAMERA CLUB
END:VEVENT
END:VCALENDAR


