BEGIN:VCALENDAR
VERSION:2.0
PRODID:-//hacksw/handcal//NONSGML v1.0//EN
BEGIN:VEVENT
UID:387
DTSTART;VALUE=DATE:20131231
URL;VALUE=URI:ohschonhell.at/?page_id=2851
SUMMARY:MALEFIZ NEW YEAR&#039\;S ISSUE!
LOCATION:BRUT
END:VEVENT
END:VCALENDAR


