BEGIN:VCALENDAR
VERSION:2.0
PRODID:-//hacksw/handcal//NONSGML v1.0//EN
BEGIN:VEVENT
UID:3875
DTSTART;VALUE=DATE:20150523
URL;VALUE=URI:ohschonhell.at/?page_id=6980
SUMMARY:if raw gets gentle
LOCATION:ELEKTRO GÖNNER
END:VEVENT
END:VCALENDAR


