BEGIN:VCALENDAR
VERSION:2.0
PRODID:-//hacksw/handcal//NONSGML v1.0//EN
BEGIN:VEVENT
UID:3882
DTSTART;VALUE=DATE:20150815
URL;VALUE=URI:ohschonhell.at/?page_id=6991
SUMMARY:Rolling Beats on the beach - Open air - LAST DATE 15. August !!!
LOCATION:VIENNA CITY BEACH CLUB
END:VEVENT
END:VCALENDAR


