BEGIN:VCALENDAR
VERSION:2.0
PRODID:-//hacksw/handcal//NONSGML v1.0//EN
BEGIN:VEVENT
UID:3898
DTSTART;VALUE=DATE:20150529
URL;VALUE=URI:ohschonhell.at/?page_id=7011
SUMMARY:|     TWISTED &lt\;&lt\;::&gt\;&gt\;  MU:SICK       |    2  Floors   | Hip Hop | RnB | Classics | House | 2 Step |
LOCATION:AUSLAGE
END:VEVENT
END:VCALENDAR


