BEGIN:VCALENDAR
VERSION:2.0
PRODID:-//hacksw/handcal//NONSGML v1.0//EN
BEGIN:VEVENT
UID:3904
DTSTART;VALUE=DATE:20150521
URL;VALUE=URI:ohschonhell.at/?page_id=7018
SUMMARY:ELEKTRAE ZOOM feat. DJ YASEMIN
LOCATION:ELEKTRO GÖNNER
END:VEVENT
END:VCALENDAR


