BEGIN:VCALENDAR
VERSION:2.0
PRODID:-//hacksw/handcal//NONSGML v1.0//EN
BEGIN:VEVENT
UID:3930
DTSTART;VALUE=DATE:20150613
URL;VALUE=URI:ohschonhell.at/?page_id=7046
SUMMARY:▒Schlafprobleme▒
LOCATION:KULTURZENTRUM "SCHMELZE"
END:VEVENT
END:VCALENDAR


