BEGIN:VCALENDAR
VERSION:2.0
PRODID:-//hacksw/handcal//NONSGML v1.0//EN
BEGIN:VEVENT
UID:3939
DTSTART;VALUE=DATE:20150530
URL;VALUE=URI:ohschonhell.at/?page_id=7057
SUMMARY:F A I R L I G H T C L U B = 4
LOCATION:CAFE LEOPOLD
END:VEVENT
END:VCALENDAR


