BEGIN:VCALENDAR
VERSION:2.0
PRODID:-//hacksw/handcal//NONSGML v1.0//EN
BEGIN:VEVENT
UID:3941
DTSTART;VALUE=DATE:20150526
URL;VALUE=URI:ohschonhell.at/?page_id=7059
SUMMARY:ELeKtro göNNer aLL bARS #3 w/ POCKETFUL OF G:LD &amp\; KAJA KO &amp\; TAMARA DINKA
LOCATION:ELEKTRO GÖNNER
END:VEVENT
END:VCALENDAR


