BEGIN:VCALENDAR
VERSION:2.0
PRODID:-//hacksw/handcal//NONSGML v1.0//EN
BEGIN:VEVENT
UID:3947
DTSTART;VALUE=DATE:20150522
URL;VALUE=URI:ohschonhell.at/?page_id=7068
SUMMARY:Goa Party
LOCATION:RAGNARHOF
END:VEVENT
END:VCALENDAR


