BEGIN:VCALENDAR
VERSION:2.0
PRODID:-//hacksw/handcal//NONSGML v1.0//EN
BEGIN:VEVENT
UID:3953
DTSTART;VALUE=DATE:20150530
URL;VALUE=URI:ohschonhell.at/?page_id=7078
SUMMARY:VIS NIGHTS - KIDS N CATS DJ-SET x Davi dB &amp\; Der Fux
LOCATION:BRUT
END:VEVENT
END:VCALENDAR


