BEGIN:VCALENDAR
VERSION:2.0
PRODID:-//hacksw/handcal//NONSGML v1.0//EN
BEGIN:VEVENT
UID:3957
DTSTART;VALUE=DATE:20150531
URL;VALUE=URI:ohschonhell.at/?page_id=7084
SUMMARY:Lighthouse Festival 2015
LOCATION:LIGHTHOUSE FESTIVAL
END:VEVENT
END:VCALENDAR


