BEGIN:VCALENDAR
VERSION:2.0
PRODID:-//hacksw/handcal//NONSGML v1.0//EN
BEGIN:VEVENT
UID:3965
DTSTART;VALUE=DATE:20150613
URL;VALUE=URI:ohschonhell.at/?page_id=7094
SUMMARY:DROP ZONE • • The Hardcore Clubseries Part II
LOCATION:SPITTELAU 10
END:VEVENT
END:VCALENDAR


