BEGIN:VCALENDAR
VERSION:2.0
PRODID:-//hacksw/handcal//NONSGML v1.0//EN
BEGIN:VEVENT
UID:3966
DTSTART;VALUE=DATE:20150627
URL;VALUE=URI:ohschonhell.at/?page_id=7095
SUMMARY:Early Beatz back to the past  27.6.
LOCATION:VIPER ROOM
END:VEVENT
END:VCALENDAR


