BEGIN:VCALENDAR
VERSION:2.0
PRODID:-//hacksw/handcal//NONSGML v1.0//EN
BEGIN:VEVENT
UID:3989
DTSTART;VALUE=DATE:20150613
URL;VALUE=URI:ohschonhell.at/?page_id=7124
SUMMARY:Secret Swing Club: Summertime!!!
LOCATION:THE LOUNGE
END:VEVENT
END:VCALENDAR


