BEGIN:VCALENDAR
VERSION:2.0
PRODID:-//hacksw/handcal//NONSGML v1.0//EN
BEGIN:VEVENT
UID:3995
DTSTART;VALUE=DATE:20150603
URL;VALUE=URI:ohschonhell.at/?page_id=7130
SUMMARY::: MUTTER does SASS :: Mother&#039\;s Vinyl Boutique ::
LOCATION:SASS
END:VEVENT
END:VCALENDAR


